BEGIN:VCALENDAR
VERSION:2.0
PRODID:-//Kontrapunkt e.V.//NONSGML kigkonsult.se iCalcreator 2.41.92//
CALSCALE:GREGORIAN
METHOD:PUBLISH
UID:62393137-6330-4437-b538-623065623332
X-WR-CALNAME:iCagenda
X-WR-CALDESC:Event Management Extension for Joomla!
X-WR-RELCALID:3E26604A-50F4-4449-8B3E-E4F4932D05B5
X-WR-TIMEZONE:Europe/Berlin
BEGIN:VTIMEZONE
TZID:Europe/Berlin
TZUNTIL:20211031T010000Z
BEGIN:STANDARD
TZNAME:CET
DTSTART:20181028T030000
TZOFFSETFROM:+0200
TZOFFSETTO:+0100
RDATE:20191027T030000
RDATE:20201025T030000
END:STANDARD
BEGIN:DAYLIGHT
TZNAME:CEST
DTSTART:20190331T020000
TZOFFSETFROM:+0100
TZOFFSETTO:+0200
RDATE:20200329T020000
RDATE:20210328T020000
END:DAYLIGHT
END:VTIMEZONE
BEGIN:VEVENT
UID:30646564-6432-4435-b936-373864386139
DTSTAMP:20260422T090112Z
CATEGORIES:Proben
CLASS:PUBLIC
DESCRIPTION:
DTSTART:20191023T173000Z
DTEND:20191023T173000Z
GEO:00;0
LOCATION:Online
ORGANIZER:
SEQUENCE:1
SUMMARY:Chorprobe
TRANSP:OPAQUE
URL:https://www.kontrapunkt-ulm.de/termine/1-chorprobe/2019-10-23-19-30
END:VEVENT
END:VCALENDAR
