BEGIN:VCALENDAR
VERSION:2.0
PRODID:-//Kontrapunkt e.V.//NONSGML kigkonsult.se iCalcreator 2.41.92//
CALSCALE:GREGORIAN
METHOD:PUBLISH
UID:62316630-3032-4763-b538-303537393632
X-WR-CALNAME:iCagenda
X-WR-CALDESC:Event Management Extension for Joomla!
X-WR-RELCALID:3E26604A-50F4-4449-8B3E-E4F4932D05B5
X-WR-TIMEZONE:Europe/Berlin
BEGIN:VTIMEZONE
TZID:Europe/Berlin
TZUNTIL:20211031T010000Z
BEGIN:STANDARD
TZNAME:CET
DTSTART:20191027T030000
TZOFFSETFROM:+0200
TZOFFSETTO:+0100
RDATE:20201025T030000
END:STANDARD
BEGIN:DAYLIGHT
TZNAME:CEST
DTSTART:20190331T020000
TZOFFSETFROM:+0100
TZOFFSETTO:+0200
RDATE:20200329T020000
RDATE:20210328T020000
END:DAYLIGHT
END:VTIMEZONE
BEGIN:VEVENT
UID:64343231-6266-4864-a138-316633363861
DTSTAMP:20260425T104551Z
CATEGORIES:Ferien
CLASS:PUBLIC
DESCRIPTION:
DTSTART:20191225T230000Z
DTEND:20191225T230000Z
GEO:00;0
LOCATION:
ORGANIZER:
SEQUENCE:1
SUMMARY:2. Weihnachtsfeiertag
TRANSP:OPAQUE
URL:https://www.kontrapunkt-ulm.de/termine/21-osterferien-17/2019-12-26-00-
 00
END:VEVENT
END:VCALENDAR
